BEGIN:VCALENDAR
VERSION:2.0
PRODID:-//coloradocactus.org//NONSGML kigkonsult.se iCalcreator 2.30.10//
CALSCALE:GREGORIAN
METHOD:PUBLISH
UID:7b800132-0785-4dfe-8502-c7a8979e36be
X-WR-CALDESC:More information coming...
X-WR-RELCALID:7a9c34ebaf35123a86d815193fb2506a
X-WR-TIMEZONE:America/Denver
BEGIN:VTIMEZONE
TZID:America/Denver
BEGIN:STANDARD
TZNAME:MST
DTSTART:20251102T020000
TZOFFSETFROM:-0600
TZOFFSETTO:-0700
RDATE:20261101T020000
RDATE:20271107T020000
END:STANDARD
BEGIN:DAYLIGHT
TZNAME:MDT
DTSTART:20260308T020000
TZOFFSETFROM:-0700
TZOFFSETTO:-0600
RDATE:20270314T020000
END:DAYLIGHT
END:VTIMEZONE
BEGIN:VEVENT
UID:9377a682-3050-4c19-90d2-65970d694455
DTSTAMP:20260424T000337Z
DESCRIPTION:More information coming...
DTSTART;TZID=America/Denver:20260620T040000
DTEND;TZID=America/Denver:20260621T040001
LOCATION:Fort Collins\, CO
SUMMARY:Field Trip to The Gardens on Spring Creek and Tom Mathies' Garden i
 n Fort Collins *TBD
END:VEVENT
END:VCALENDAR
