BEGIN:VCALENDAR
VERSION:2.0
PRODID:-//coloradocactus.org//NONSGML kigkonsult.se iCalcreator 2.30.10//
CALSCALE:GREGORIAN
METHOD:PUBLISH
UID:566c53c4-0e7a-4096-8dbe-32327faa5e67
X-WR-CALDESC:This is the CCSS Yearly Business Meeting\, Elections\, and Ban
 quet!
X-WR-RELCALID:b0df1bf67e5373c779affe9f9d158744
X-WR-TIMEZONE:America/Denver
BEGIN:VTIMEZONE
TZID:America/Denver
BEGIN:STANDARD
TZNAME:MST
DTSTART:20211107T020000
TZOFFSETFROM:-0600
TZOFFSETTO:-0700
RDATE:20221106T020000
END:STANDARD
BEGIN:DAYLIGHT
TZNAME:MDT
DTSTART:20210314T020000
TZOFFSETFROM:-0700
TZOFFSETTO:-0600
RDATE:20220313T020000
RDATE:20230312T020000
END:DAYLIGHT
END:VTIMEZONE
BEGIN:VEVENT
UID:891f792f-ecdd-4881-a399-e9b494fc1710
DTSTAMP:20260424T155906Z
DESCRIPTION:This is the CCSS Yearly Business Meeting\, Elections\, and Banq
 uet!
DTSTART;TZID=America/Denver:20211102T190000
DTEND;TZID=America/Denver:20211102T210000
LOCATION:12684 W Indore Place\,  Littleton\, CO 80127 US
SUMMARY:2021 Club Banquet
END:VEVENT
END:VCALENDAR
