BEGIN:VCALENDAR
VERSION:2.0
PRODID:-//coloradocactus.org//NONSGML kigkonsult.se iCalcreator 2.30.10//
CALSCALE:GREGORIAN
METHOD:PUBLISH
UID:8d2ff4d5-5418-4d67-9867-519c1a52557f
X-WR-CALDESC:We have been lucky to be able to engage Michelle Cloud-Hughes 
 to give a talk to us about new species of cacti she’s discovered and named
  in the Southwest. Michelle is the leading authority on Chollas (the genus
  Cylindropuntia) which she’s studied across their range in the United Stat
 es and Mexico. She lives in San Diego\, but will be visiting Denver a \n\n
 The talk will be this Tuesday\, at 7pm\, in Gates Hall\, which is immediat
 ely to the left of the stairway leading from the main Education building o
 n the way to the new Freyer-Newman Center (i.e. the room where we USED to 
 meet): since our winter hours are starting Monday (i.e. visitor center not
  open after 5:00pm) people will have to enter and leave through the Pinon 
 gate\, which is to the RIGHT of the Visitor Center.\nIt’s not often we can
  meet a world expert on an important group of our native succulents: do pl
 ease come!\n\nYou can find further description of her and the talk she’ll 
 be giving here - - http://www.csssn.org/journal/tag/michelle-cloud-hughes
 \n
X-WR-RELCALID:2e484efebd5022095fce96ceee96df29
X-WR-TIMEZONE:America/Denver
BEGIN:VTIMEZONE
TZID:America/Denver
BEGIN:STANDARD
TZNAME:MST
DTSTART:20201101T020000
TZOFFSETFROM:-0600
TZOFFSETTO:-0700
RDATE:20211107T020000
RDATE:20221106T020000
END:STANDARD
BEGIN:DAYLIGHT
TZNAME:MDT
DTSTART:20210314T020000
TZOFFSETFROM:-0700
TZOFFSETTO:-0600
RDATE:20220313T020000
RDATE:20230312T020000
END:DAYLIGHT
END:VTIMEZONE
BEGIN:VEVENT
UID:c332ecb8-2e54-4826-b82a-6d672e7631ed
DTSTAMP:20260424T115233Z
DESCRIPTION:We have been lucky to be able to engage Michelle Cloud-Hughes t
 o give a talk to us about new species of cacti she’s discovered and named 
 in the Southwest. Michelle is the leading authority on Chollas (the genus 
 Cylindropuntia) which she’s studied across their range in the United State
 s and Mexico. She lives in San Diego\, but will be visiting Denver a \n\nT
 he talk will be this Tuesday\, at 7pm\, in Gates Hall\, which is immediate
 ly to the left of the stairway leading from the main Education building on
  the way to the new Freyer-Newman Center (i.e. the room where we USED to m
 eet): since our winter hours are starting Monday (i.e. visitor center not 
 open after 5:00pm) people will have to enter and leave through the Pinon g
 ate\, which is to the RIGHT of the Visitor Center.\nIt’s not often we can 
 meet a world expert on an important group of our native succulents: do ple
 ase come!\n\nYou can find further description of her and the talk she’ll b
 e giving here - - http://www.csssn.org/journal/tag/michelle-cloud-hughes\n
DTSTART;TZID=America/Denver:20210928T190000
DTEND;TZID=America/Denver:20210928T210000
LOCATION:Denver Botanic Gardens - Gates Hall
SUMMARY:Michelle Cloud-Hughes Talk
END:VEVENT
END:VCALENDAR
