BEGIN:VCALENDAR
VERSION:2.0
PRODID:-//coloradocactus.org//NONSGML kigkonsult.se iCalcreator 2.30.10//
CALSCALE:GREGORIAN
METHOD:PUBLISH
UID:e77ae17e-e661-446e-a9f8-e40997d54eef
X-WR-CALDESC:September Meeting - Steve Brack will talk about the Cacti of N
 ew Mexico!\n\nThird Tuesday of the month\, at our regular time.
X-WR-RELCALID:da9a6fbea838dead3f021334647fda1d
X-WR-TIMEZONE:America/Denver
BEGIN:VTIMEZONE
TZID:America/Denver
BEGIN:STANDARD
TZNAME:MST
DTSTART:20201101T020000
TZOFFSETFROM:-0600
TZOFFSETTO:-0700
RDATE:20211107T020000
RDATE:20221106T020000
END:STANDARD
BEGIN:DAYLIGHT
TZNAME:MDT
DTSTART:20210314T020000
TZOFFSETFROM:-0700
TZOFFSETTO:-0600
RDATE:20220313T020000
RDATE:20230312T020000
END:DAYLIGHT
END:VTIMEZONE
BEGIN:VEVENT
UID:fc7b8883-46a6-402b-89a9-d0d99b1a1c14
DTSTAMP:20260424T115943Z
DESCRIPTION:September Meeting - Steve Brack will talk about the Cacti of Ne
 w Mexico!\n\nThird Tuesday of the month\, at our regular time.
DTSTART;TZID=America/Denver:20210921T183000
DTEND;TZID=America/Denver:20210921T203000
LOCATION:Sturm Auditorium at Denver Botanic Gardens\, 1007 York Street Denv
 er\, CO 80206
SUMMARY:CCSS Monthly Meeting
END:VEVENT
END:VCALENDAR
