BEGIN:VCALENDAR
VERSION:2.0
PRODID:-//coloradocactus.org//NONSGML kigkonsult.se iCalcreator 2.30.10//
CALSCALE:GREGORIAN
METHOD:PUBLISH
UID:8977a3f7-0d98-4391-807e-ac7107f16f6f
X-WR-CALDESC:August 2021 Monthly Club Meeting\n\nThis is our first 'in-pers
 on' meeting in a very\, very long time.\n\nWoody Minnich will speak\, titl
 e and description to follow!
X-WR-RELCALID:71f5e24c2a9a270f343af945a998fb19
X-WR-TIMEZONE:America/Denver
BEGIN:VTIMEZONE
TZID:America/Denver
BEGIN:STANDARD
TZNAME:MST
DTSTART:20201101T020000
TZOFFSETFROM:-0600
TZOFFSETTO:-0700
RDATE:20211107T020000
RDATE:20221106T020000
END:STANDARD
BEGIN:DAYLIGHT
TZNAME:MDT
DTSTART:20210314T020000
TZOFFSETFROM:-0700
TZOFFSETTO:-0600
RDATE:20220313T020000
END:DAYLIGHT
END:VTIMEZONE
BEGIN:VEVENT
UID:21c2b679-cde6-4cd3-8146-3ee8cdaa9625
DTSTAMP:20260424T095126Z
DESCRIPTION:August 2021 Monthly Club Meeting\n\nThis is our first 'in-perso
 n' meeting in a very\, very long time.\n\nWoody Minnich will speak\, title
  and description to follow!
DTSTART;TZID=America/Denver:20210821T100000
DTEND;TZID=America/Denver:20210821T120000
LOCATION:Sturm Auditorium at Denver Botanic Gardens\, 1007 York Street Denv
 er\, CO 80206
SUMMARY:August 2021 Club Meeting
END:VEVENT
END:VCALENDAR
