BEGIN:VCALENDAR
VERSION:2.0
PRODID:-//coloradocactus.org//NONSGML kigkonsult.se iCalcreator 2.30.10//
CALSCALE:GREGORIAN
METHOD:PUBLISH
UID:d812fc6c-656d-4b44-aa51-9d972fc7840f
X-WR-CALDESC:At the Tatroe's House\n17156 E. Berry Pl\, Centennial CO 80015
X-WR-RELCALID:c34fe626d34f679284a4036257e43261
X-WR-TIMEZONE:America/Denver
BEGIN:VTIMEZONE
TZID:America/Denver
BEGIN:STANDARD
TZNAME:MST
DTSTART:20201101T020000
TZOFFSETFROM:-0600
TZOFFSETTO:-0700
RDATE:20211107T020000
RDATE:20221106T020000
END:STANDARD
BEGIN:DAYLIGHT
TZNAME:MDT
DTSTART:20210314T020000
TZOFFSETFROM:-0700
TZOFFSETTO:-0600
RDATE:20220313T020000
END:DAYLIGHT
END:VTIMEZONE
BEGIN:VEVENT
UID:6891a2ef-6cd0-448f-8732-d08038ac15f9
DTSTAMP:20260424T074151Z
DESCRIPTION:At the Tatroe's House\n17156 E. Berry Pl\, Centennial CO 80015
DTSTART;TZID=America/Denver:20210717T090000
DTEND;TZID=America/Denver:20210717T110000
LOCATION:CCSS Cactus Cut-Up
SUMMARY:CCSS Cactus Cut-Up
END:VEVENT
END:VCALENDAR
