BEGIN:VCALENDAR
VERSION:2.0
PRODID:-//coloradocactus.org//NONSGML kigkonsult.se iCalcreator 2.30.10//
CALSCALE:GREGORIAN
METHOD:PUBLISH
UID:6d935e62-4bfe-46d0-812f-35f734465e9b
X-WR-CALDESC:IT IS ON!\n\nAt the Jefferson Country Fairgrounds.\n\nONE DAY 
 ONLY!
X-WR-RELCALID:73c060591679337695235e794c941f2e
X-WR-TIMEZONE:America/Denver
BEGIN:VTIMEZONE
TZID:America/Denver
BEGIN:STANDARD
TZNAME:MST
DTSTART:20201101T020000
TZOFFSETFROM:-0600
TZOFFSETTO:-0700
RDATE:20211107T020000
RDATE:20221106T020000
END:STANDARD
BEGIN:DAYLIGHT
TZNAME:MDT
DTSTART:20210314T020000
TZOFFSETFROM:-0700
TZOFFSETTO:-0600
RDATE:20220313T020000
END:DAYLIGHT
END:VTIMEZONE
BEGIN:VEVENT
UID:7c93b41a-fdca-4bfd-9014-fa5ed9d592ba
DTSTAMP:20260424T073443Z
DESCRIPTION:IT IS ON!\n\nAt the Jefferson Country Fairgrounds.\n\nONE DAY O
 NLY!
DTSTART;TZID=America/Denver:20210710T090000
DTEND;TZID=America/Denver:20210710T170000
LOCATION:2021 CCSS Show and Sale
SUMMARY:2021 CCSS Show and Sale
END:VEVENT
END:VCALENDAR
