BEGIN:VCALENDAR
VERSION:2.0
PRODID:-//coloradocactus.org//NONSGML kigkonsult.se iCalcreator 2.30.10//
CALSCALE:GREGORIAN
METHOD:PUBLISH
UID:f5660901-464c-4b3e-8588-1f06f4954776
X-WR-CALDESC:Featuring the gardens of:\n\n    Panayoti Kelaidis:\n    1244 
 S. Quince St\, Denver CO 82231\n \nJoe McCleary:\n    5255 S. Laredo Way\,
  Centennial CO 80015\n  \nMarcia and Randy Tatroe:\n    17156 E. Berry Pl.
 \, Centennial CO 80015\n  \nAdrian Saunders:\n    7308 S\, Chapparal Cir E
 .\, Centennial CO 80016\n
X-WR-RELCALID:5ab0597964ba4ebefa83ef1c74f49e85
X-WR-TIMEZONE:America/Denver
BEGIN:VTIMEZONE
TZID:America/Denver
BEGIN:STANDARD
TZNAME:MST
DTSTART:20201101T020000
TZOFFSETFROM:-0600
TZOFFSETTO:-0700
RDATE:20211107T020000
RDATE:20221106T020000
END:STANDARD
BEGIN:DAYLIGHT
TZNAME:MDT
DTSTART:20210314T020000
TZOFFSETFROM:-0700
TZOFFSETTO:-0600
RDATE:20220313T020000
END:DAYLIGHT
END:VTIMEZONE
BEGIN:VEVENT
UID:8ed6dd71-6545-42d3-8ded-b0509e9deca0
DTSTAMP:20260424T043336Z
DESCRIPTION:Featuring the gardens of:\n\n    Panayoti Kelaidis:\n    1244 S
 . Quince St\, Denver CO 82231\n \nJoe McCleary:\n    5255 S. Laredo Way\, 
 Centennial CO 80015\n  \nMarcia and Randy Tatroe:\n    17156 E. Berry Pl.\
 , Centennial CO 80015\n  \nAdrian Saunders:\n    7308 S\, Chapparal Cir E.
 \, Centennial CO 80016\n
DTSTART;TZID=America/Denver:20210529T090000
DTEND;TZID=America/Denver:20210529T130000
LOCATION:2021 CCSS Garden Tours
SUMMARY:2021 Garden Tour
END:VEVENT
END:VCALENDAR
