BEGIN:VCALENDAR
VERSION:2.0
PRODID:-//coloradocactus.org//NONSGML kigkonsult.se iCalcreator 2.30.10//
CALSCALE:GREGORIAN
METHOD:PUBLISH
UID:d4afdee5-8442-40ad-8152-7ac2d47b0f59
X-WR-CALDESC:Planning meeting for the 2021 Show and Sale!\n\nBe sure to reg
 ister on Zoom!
X-WR-RELCALID:435d5405cd02a09363afda47e5918414
X-WR-TIMEZONE:America/Denver
BEGIN:VTIMEZONE
TZID:America/Denver
BEGIN:STANDARD
TZNAME:MST
DTSTART:20201101T020000
TZOFFSETFROM:-0600
TZOFFSETTO:-0700
RDATE:20211107T020000
RDATE:20221106T020000
END:STANDARD
BEGIN:DAYLIGHT
TZNAME:MDT
DTSTART:20210314T020000
TZOFFSETFROM:-0700
TZOFFSETTO:-0600
RDATE:20220313T020000
END:DAYLIGHT
END:VTIMEZONE
BEGIN:VEVENT
UID:9dc801c7-872a-4711-917c-f4d8752507c4
DTSTAMP:20260424T042448Z
DESCRIPTION:Planning meeting for the 2021 Show and Sale!\n\nBe sure to regi
 ster on Zoom!
DTSTART;TZID=America/Denver:20210511T190000
DTEND;TZID=America/Denver:20210511T200000
LOCATION:Zoom Meeting!
SUMMARY:2021 Show & Sale Planning
END:VEVENT
END:VCALENDAR
