BEGIN:VCALENDAR
VERSION:2.0
PRODID:-//coloradocactus.org//NONSGML kigkonsult.se iCalcreator 2.30.10//
CALSCALE:GREGORIAN
METHOD:PUBLISH
UID:433bc7d6-6ad5-4d30-a909-852bd3fe32ce
X-WR-CALDESC:
X-WR-RELCALID:d28a0aa0e4a4b123fbaabb9e842ad579
X-WR-TIMEZONE:America/Denver
BEGIN:VTIMEZONE
TZID:America/Denver
BEGIN:STANDARD
TZNAME:MST
DTSTART:20201101T020000
TZOFFSETFROM:-0600
TZOFFSETTO:-0700
RDATE:20211107T020000
END:STANDARD
BEGIN:DAYLIGHT
TZNAME:MDT
DTSTART:20210314T020000
TZOFFSETFROM:-0700
TZOFFSETTO:-0600
RDATE:20220313T020000
END:DAYLIGHT
END:VTIMEZONE
BEGIN:VEVENT
UID:d341b29e-6eb6-477c-a3f1-d638a251f8e0
DTSTAMP:20260424T043057Z
DESCRIPTION:
DTSTART;TZID=America/Denver:20210502T110000
DTEND;TZID=America/Denver:20210502T150000
LOCATION:Celebrating Carol
SUMMARY:Carol Earle Memorial Walk
END:VEVENT
END:VCALENDAR
