BEGIN:VCALENDAR
VERSION:2.0
PRODID:-//coloradocactus.org//NONSGML kigkonsult.se iCalcreator 2.30.10//
CALSCALE:GREGORIAN
METHOD:PUBLISH
UID:fad176eb-f5b1-4aac-afbc-db08a2b7d943
X-WR-CALDESC:April CCSS Meeting!
X-WR-RELCALID:a17d90de818edb83ae39dc6dd3471672
X-WR-TIMEZONE:America/Denver
BEGIN:VTIMEZONE
TZID:America/Denver
BEGIN:STANDARD
TZNAME:MST
DTSTART:20201101T020000
TZOFFSETFROM:-0600
TZOFFSETTO:-0700
RDATE:20211107T020000
END:STANDARD
BEGIN:DAYLIGHT
TZNAME:MDT
DTSTART:20210314T020000
TZOFFSETFROM:-0700
TZOFFSETTO:-0600
RDATE:20220313T020000
END:DAYLIGHT
END:VTIMEZONE
BEGIN:VEVENT
UID:7ea5b3ee-ed71-4c07-89ac-8c29befc3f31
DTSTAMP:20260424T022546Z
DESCRIPTION:April CCSS Meeting!
DTSTART;TZID=America/Denver:20210420T190000
DTEND;TZID=America/Denver:20210420T210000
LOCATION:Zoom Meeting!
SUMMARY:CCSS Meeting
END:VEVENT
END:VCALENDAR
