BEGIN:VCALENDAR
VERSION:2.0
PRODID:-//coloradocactus.org//NONSGML kigkonsult.se iCalcreator 2.30.10//
CALSCALE:GREGORIAN
METHOD:PUBLISH
UID:33450dc5-3938-4530-8c0b-dbe6ff5f3f4e
X-WR-CALDESC:This is the club's January's meeting!\n\nRegister for the meet
 ing here:\nhttps://zoom.us/meeting/register/tJclcOutpjgpHtPumOFr6pDQjoA61P
 08yQOR
X-WR-RELCALID:ed16f1455cdcfd64ca845f2dafaa234a
X-WR-TIMEZONE:America/Denver
BEGIN:VTIMEZONE
TZID:America/Denver
BEGIN:STANDARD
TZNAME:MST
DTSTART:20201101T020000
TZOFFSETFROM:-0600
TZOFFSETTO:-0700
RDATE:20211107T020000
END:STANDARD
BEGIN:DAYLIGHT
TZNAME:MDT
DTSTART:20200308T020000
TZOFFSETFROM:-0700
TZOFFSETTO:-0600
RDATE:20210314T020000
RDATE:20220313T020000
END:DAYLIGHT
END:VTIMEZONE
BEGIN:VEVENT
UID:35d531a0-631d-447d-99b9-e70899661bff
DTSTAMP:20260423T205915Z
DESCRIPTION:This is the club's January's meeting!\n\nRegister for the meeti
 ng here:\nhttps://zoom.us/meeting/register/tJclcOutpjgpHtPumOFr6pDQjoA61P0
 8yQOR
DTSTART;TZID=America/Denver:20210119T190000
DTEND;TZID=America/Denver:20210119T210000
LOCATION:Zoom Meeting!
SUMMARY:CCSS January Meeting
END:VEVENT
END:VCALENDAR
