BEGIN:VCALENDAR
VERSION:2.0
PRODID:-//coloradocactus.org//NONSGML kigkonsult.se iCalcreator 2.30.10//
CALSCALE:GREGORIAN
METHOD:PUBLISH
UID:f9dd630f-2551-4a57-b81c-741ab2ef818d
X-WR-CALDESC:Our members are invited to join the Cascade Cactus & Succulent
  Society December Zoom meeting.  It will be December 20th at 3:00pm local 
 time.
X-WR-RELCALID:d2cd5d247867cf2637d6f929d48bfcbe
X-WR-TIMEZONE:America/Denver
BEGIN:VTIMEZONE
TZID:America/Denver
BEGIN:STANDARD
TZNAME:MST
DTSTART:20201101T020000
TZOFFSETFROM:-0600
TZOFFSETTO:-0700
RDATE:20211107T020000
END:STANDARD
BEGIN:DAYLIGHT
TZNAME:MDT
DTSTART:20200308T020000
TZOFFSETFROM:-0700
TZOFFSETTO:-0600
RDATE:20210314T020000
RDATE:20220313T020000
END:DAYLIGHT
END:VTIMEZONE
BEGIN:VEVENT
UID:da133676-a977-444b-bc06-77e68a29536d
DTSTAMP:20260423T225622Z
DESCRIPTION:Our members are invited to join the Cascade Cactus & Succulent 
 Society December Zoom meeting.  It will be December 20th at 3:00pm local t
 ime.
DTSTART;TZID=America/Denver:20201220T150000
DTEND;TZID=America/Denver:20201220T170000
LOCATION:Zoom Meeting!
SUMMARY:Cascade Cactus and Succulent Society Meeting
END:VEVENT
END:VCALENDAR
