BEGIN:VCALENDAR
VERSION:2.0
PRODID:-//coloradocactus.org//NONSGML kigkonsult.se iCalcreator 2.30.10//
CALSCALE:GREGORIAN
METHOD:PUBLISH
UID:4fac52da-5863-43ff-8af6-86012999dff1
X-WR-CALDESC:Register at\n\nhttps://zoom.us/meeting/register/tJEsdeyurTgoGN
 0-iTdpFx67kH7yicGnDDYv
X-WR-RELCALID:afca1cba747be204af23c602f6eb63fb
X-WR-TIMEZONE:America/Denver
BEGIN:VTIMEZONE
TZID:America/Denver
BEGIN:STANDARD
TZNAME:MST
DTSTART:20201101T020000
TZOFFSETFROM:-0600
TZOFFSETTO:-0700
RDATE:20211107T020000
END:STANDARD
BEGIN:DAYLIGHT
TZNAME:MDT
DTSTART:20200308T020000
TZOFFSETFROM:-0700
TZOFFSETTO:-0600
RDATE:20210314T020000
RDATE:20220313T020000
END:DAYLIGHT
END:VTIMEZONE
BEGIN:VEVENT
UID:50eba03a-3c6e-4eef-b135-204a71eec2c4
DTSTAMP:20260423T225202Z
DESCRIPTION:Register at\n\nhttps://zoom.us/meeting/register/tJEsdeyurTgoGN0
 -iTdpFx67kH7yicGnDDYv
DTSTART;TZID=America/Denver:20201215T190000
DTEND;TZID=America/Denver:20201215T210000
LOCATION:CCSS Zoom Meeting!
SUMMARY:CCSS Meeting
END:VEVENT
END:VCALENDAR
