BEGIN:VCALENDAR
VERSION:2.0
PRODID:-//coloradocactus.org//NONSGML kigkonsult.se iCalcreator 2.30.10//
CALSCALE:GREGORIAN
METHOD:PUBLISH
UID:dc5a43bc-f142-4470-9a7f-404060e90dca
X-WR-CALDESC:This is a 'virtual' meeting via 'Zoom'...\nGeneral Catch-up pl
 us a presentation from Rod Haenni!\n
X-WR-RELCALID:6c3e61ad8f2a44402824a1aaaf5c865c
X-WR-TIMEZONE:America/Denver
BEGIN:VTIMEZONE
TZID:America/Denver
BEGIN:STANDARD
TZNAME:MST
DTSTART:20201101T020000
TZOFFSETFROM:-0600
TZOFFSETTO:-0700
RDATE:20211107T020000
END:STANDARD
BEGIN:DAYLIGHT
TZNAME:MDT
DTSTART:20200308T020000
TZOFFSETFROM:-0700
TZOFFSETTO:-0600
RDATE:20210314T020000
RDATE:20220313T020000
END:DAYLIGHT
END:VTIMEZONE
BEGIN:VEVENT
UID:64c4e8df-a16b-42c9-befc-ec7212db027e
DTSTAMP:20260424T002314Z
DESCRIPTION:This is a 'virtual' meeting via 'Zoom'...\nGeneral Catch-up plu
 s a presentation from Rod Haenni!\n
DTSTART;TZID=America/Denver:20201124T190000
DTEND;TZID=America/Denver:20201124T210000
LOCATION:November CCSS Meeting
SUMMARY:November Meeting
END:VEVENT
END:VCALENDAR
