BEGIN:VCALENDAR
VERSION:2.0
PRODID:-//coloradocactus.org//NONSGML kigkonsult.se iCalcreator 2.30.10//
CALSCALE:GREGORIAN
METHOD:PUBLISH
UID:3dac4901-dcb4-4624-8fb6-7e677d8f8965
X-WR-CALDESC:'Looking for Succulents in All the Wrong Places'\nBy Panayoti 
 Kelaidis\n\nCourtesy of the San Francisco Succulent & Cactus Society
X-WR-RELCALID:759f96399c64e76a0e0e0be88b4b75d0
X-WR-TIMEZONE:America/Denver
BEGIN:VTIMEZONE
TZID:America/Denver
BEGIN:STANDARD
TZNAME:MST
DTSTART:20201101T020000
TZOFFSETFROM:-0600
TZOFFSETTO:-0700
RDATE:20211107T020000
END:STANDARD
BEGIN:DAYLIGHT
TZNAME:MDT
DTSTART:20200308T020000
TZOFFSETFROM:-0700
TZOFFSETTO:-0600
RDATE:20210314T020000
RDATE:20220313T020000
END:DAYLIGHT
END:VTIMEZONE
BEGIN:VEVENT
UID:e9276bdb-8964-4a6c-bf28-a6996558e0ed
DTSTAMP:20260424T003810Z
DESCRIPTION:'Looking for Succulents in All the Wrong Places'\nBy Panayoti K
 elaidis\n\nCourtesy of the San Francisco Succulent & Cactus Society
DTSTART;TZID=America/Denver:20201117T200000
DTEND;TZID=America/Denver:20201117T220000
LOCATION:Zoom Meeting!
SUMMARY:November Meeting
END:VEVENT
END:VCALENDAR
