BEGIN:VCALENDAR
VERSION:2.0
PRODID:-//coloradocactus.org//NONSGML kigkonsult.se iCalcreator 2.30.10//
CALSCALE:GREGORIAN
METHOD:PUBLISH
UID:00ebc372-ff18-43b0-8aa0-895c980464a7
X-WR-CALDESC:Saturday Meeting\nKendrick Lake Park\n9351 W. Jewell Ave. \nLa
 kewood\, CO 80232
X-WR-RELCALID:88be41fbbf8013ca65cce18abdc3134d
X-WR-TIMEZONE:America/Denver
BEGIN:VTIMEZONE
TZID:America/Denver
BEGIN:STANDARD
TZNAME:MST
DTSTART:20191103T020000
TZOFFSETFROM:-0600
TZOFFSETTO:-0700
RDATE:20201101T020000
RDATE:20211107T020000
END:STANDARD
BEGIN:DAYLIGHT
TZNAME:MDT
DTSTART:20200308T020000
TZOFFSETFROM:-0700
TZOFFSETTO:-0600
RDATE:20210314T020000
RDATE:20220313T020000
END:DAYLIGHT
END:VTIMEZONE
BEGIN:VEVENT
UID:87ce21f6-6190-4f83-be34-4d9a47956092
DTSTAMP:20260424T022946Z
DESCRIPTION:Saturday Meeting\nKendrick Lake Park\n9351 W. Jewell Ave. \nLak
 ewood\, CO 80232
DTSTART;TZID=America/Denver:20201024T120000
DTEND;TZID=America/Denver:20201024T140000
LOCATION:Kendrick Lake Park in Lakewood
SUMMARY:October Meeting
END:VEVENT
END:VCALENDAR
