BEGIN:VCALENDAR
VERSION:2.0
PRODID:-//coloradocactus.org//NONSGML kigkonsult.se iCalcreator 2.30.10//
CALSCALE:GREGORIAN
METHOD:PUBLISH
UID:5f857f11-32c2-4013-875c-e0cc8bc06904
X-WR-CALDESC:Our Mistake...No Tours Today!!
X-WR-RELCALID:7b0396d2084ea38cae44eea1b2e63db6
X-WR-TIMEZONE:America/Denver
BEGIN:VTIMEZONE
TZID:America/Denver
BEGIN:STANDARD
TZNAME:MST
DTSTART:20191103T020000
TZOFFSETFROM:-0600
TZOFFSETTO:-0700
RDATE:20201101T020000
RDATE:20211107T020000
END:STANDARD
BEGIN:DAYLIGHT
TZNAME:MDT
DTSTART:20200308T020000
TZOFFSETFROM:-0700
TZOFFSETTO:-0600
RDATE:20210314T020000
END:DAYLIGHT
END:VTIMEZONE
BEGIN:VEVENT
UID:9499f6e9-54c7-44d7-94db-1d8db87146c0
DTSTAMP:20260424T060144Z
DESCRIPTION:Our Mistake...No Tours Today!!
DTSTART;TZID=America/Denver:20200829T100000
DTEND;TZID=America/Denver:20200829T160000
LOCATION:Nope
SUMMARY:No Tours
END:VEVENT
END:VCALENDAR
