BEGIN:VCALENDAR
VERSION:2.0
PRODID:-//coloradocactus.org//NONSGML kigkonsult.se iCalcreator 2.30.10//
CALSCALE:GREGORIAN
METHOD:PUBLISH
UID:7e046c0c-02af-4067-b2b6-54692d6359f9
X-WR-CALDESC:17th Biennial C&S Conference\nKansas City\, Mo
X-WR-RELCALID:8ae440060bdcdabc3fd101918578bf41
X-WR-TIMEZONE:America/Denver
BEGIN:VTIMEZONE
TZID:America/Denver
BEGIN:STANDARD
TZNAME:MST
DTSTART:20191103T020000
TZOFFSETFROM:-0600
TZOFFSETTO:-0700
RDATE:20201101T020000
RDATE:20211107T020000
END:STANDARD
BEGIN:DAYLIGHT
TZNAME:MDT
DTSTART:20200308T020000
TZOFFSETFROM:-0700
TZOFFSETTO:-0600
RDATE:20210314T020000
END:DAYLIGHT
END:VTIMEZONE
BEGIN:VEVENT
UID:f0ec0f4a-11d9-4422-a153-d8f922a8aa98
DTSTAMP:20260424T093428Z
DESCRIPTION:17th Biennial C&S Conference\nKansas City\, Mo
DTSTART;TZID=America/Denver:20200611T000000
DTEND;TZID=America/Denver:20200614T235900
LOCATION:Kansas City\, Mo
SUMMARY:17th Biennial C&S Conference - Canceled
END:VEVENT
END:VCALENDAR
