BEGIN:VCALENDAR
VERSION:2.0
PRODID:-//coloradocactus.org//NONSGML kigkonsult.se iCalcreator 2.30.10//
CALSCALE:GREGORIAN
METHOD:PUBLISH
UID:c9296414-2aca-4cc9-9ca2-d4ea83c31a0a
X-WR-CALDESC:In the new Freyer - Newman Center Auditorium...We Hope!
X-WR-RELCALID:fa5c59a993d19ddc1bcf33eabfe8e0b1
X-WR-TIMEZONE:America/Denver
BEGIN:VTIMEZONE
TZID:America/Denver
BEGIN:STANDARD
TZNAME:MST
DTSTART:20191103T020000
TZOFFSETFROM:-0600
TZOFFSETTO:-0700
RDATE:20201101T020000
RDATE:20211107T020000
END:STANDARD
BEGIN:DAYLIGHT
TZNAME:MDT
DTSTART:20200308T020000
TZOFFSETFROM:-0700
TZOFFSETTO:-0600
RDATE:20210314T020000
END:DAYLIGHT
END:VTIMEZONE
BEGIN:VEVENT
UID:4600d76c-852b-4db4-a3b8-615e2e379524
DTSTAMP:20260424T112725Z
DESCRIPTION:In the new Freyer - Newman Center Auditorium...We Hope!
DTSTART;TZID=America/Denver:20200519T183000
DTEND;TZID=America/Denver:20200519T203000
LOCATION:DBG
SUMMARY:May Monthly Meeting
END:VEVENT
END:VCALENDAR
