BEGIN:VCALENDAR
VERSION:2.0
PRODID:-//coloradocactus.org//NONSGML kigkonsult.se iCalcreator 2.30.10//
CALSCALE:GREGORIAN
METHOD:PUBLISH
UID:e007a3e2-a911-4933-a2ce-3c9ae0e58e82
X-WR-CALDESC:Yes\, this meeting has also been canceled.\n\nThe next meeting
 ?  Hopefully in May!
X-WR-RELCALID:0298c1e77bcfa66e35ea1fee1f010c66
X-WR-TIMEZONE:America/Denver
BEGIN:VTIMEZONE
TZID:America/Denver
BEGIN:STANDARD
TZNAME:MST
DTSTART:20191103T020000
TZOFFSETFROM:-0600
TZOFFSETTO:-0700
RDATE:20201101T020000
END:STANDARD
BEGIN:DAYLIGHT
TZNAME:MDT
DTSTART:20200308T020000
TZOFFSETFROM:-0700
TZOFFSETTO:-0600
RDATE:20210314T020000
END:DAYLIGHT
END:VTIMEZONE
BEGIN:VEVENT
UID:2bcd64a0-d42e-4929-8951-5e94f823185d
DTSTAMP:20260424T132933Z
DESCRIPTION:Yes\, this meeting has also been canceled.\n\nThe next meeting?
   Hopefully in May!
DTSTART;TZID=America/Denver:20200421T183000
DTEND;TZID=America/Denver:20200421T203000
LOCATION:DBG
SUMMARY:April Meeting Canceled
END:VEVENT
END:VCALENDAR
